BEGIN:VCALENDAR
VERSION:2.0
X-WR-CALNAME:www.indybay.org
PRODID:-//indybay/ical// v1.0//EN
BEGIN:VEVENT
UID:Indybay-18327460
SEQUENCE:18334555
CREATED:20061107T204000Z
DESCRIPTION:"Finding Meaning in Turbulent Times"\nA special talk by Sharif 
 Abdullah\n\nSunday, Nov. 12th at 11:00 AM\nThe Church for the Fellowship of 
 All Peoples\n2041 Larkin Street (between Broadway & Vallejo)\nSan 
 Francisco, CA 94109\nFor directions and parking information:  
 www.fellowshipsf.org/contact.html\n\nSharif Abdullah is an author, trainer 
 and a leading catalyst for inclusive social, cultural and spiritual 
 transformation.  He teaches groups and individuals how to understand and 
 practice inclusivity – the connection with all other beings. Sharif's 
 books include "The Power of One: Authentic Leadership in Turbulent Times" 
 and "Creating a World That Works for All."  He is the founder and president 
 of Commonway Institute and the originator of the Commons Café and the 
 Common Society Movement.\n\nSharif has criss-crossed the planet, taking his 
 inclusivity work to over twenty-five different countries and close to 100 
 distinct cultures, working with groups who struggle with their differences: 
 heads of state and poor rice farmers, peace activists and members of 
 militias.  He has appeared on several international globalization forums.  
 Sharif’s peace-making efforts contributed to the 2002 historic cease-fire 
 in the 20-year-old ethnic/ civil war in Sri Lanka. \n\nSharif 
 writes:\n\n“My work is essentially spiritual.  Not the empty platitudes 
 that are mouthed on Sundays (or Fridays or Saturdays…), but a real-time 
 dynamic search for meaning in a world gone crazy.  We are not here to 
 increase market share, freshen our breath or root for the home team.  We 
 are here to actually act like we love each other, and to act out that love 
 on a daily basis. Spirituality for me is an unrelenting commitment to honor 
 the Divine within each of us.  I can’t do that if I am at war with others 
 or at war with myself.  I am committed to ending war.  I am committed to 
 creating a world that works for all.”\n\nFor more please visit:   
 www.commonway.org    and   www.common-society.org \n\n\n\n 
 https://www.indybay.org/newsitems/2006/11/07/18327460.php
SUMMARY:"Finding Meaning in Turbulent Times" - Sharif Abdullah
LOCATION:The Church for the Fellowship of All Peoples\n2041 Larkin Street (between 
 Broadway & Vallejo)\nSan Francisco, CA 94109\nFor directions and parking 
 information:  www.fellowshipsf.org/contact.html
URL:https://www.indybay.org/newsitems/2006/11/07/18327460.php
DTSTART:20061112T190000Z
DTEND:20061112T203000Z
END:VEVENT
END:VCALENDAR
