BEGIN:VCALENDAR
VERSION:2.0
X-WR-CALNAME:www.indybay.org
PRODID:-//indybay/ical// v1.0//EN
BEGIN:VEVENT
UID:Indybay-18326257
SEQUENCE:18335408
CREATED:20061104T000400Z
DESCRIPTION:Meet the director of In Debt We Trust and author of several books on the 
 democracy and the media.  In Debt We Trust investigates why we as a nation 
 are being strangled by debt and shows how the mall has replaced the factory 
 as America’s dominant economic engine.  Hear Schechter discuss what 
 former Reagan advisor Kevin Phillips called Financialization--the powerful 
 emergence of a debt-and-credit industrial complex.  Film runs from November 
 10 through November 16, director appearances November 10 and 11 only.  This 
 event is cosponsored by the Roxie Film Center at New College and Modern 
 Times Bookstore.\n\n\nFor a complete listing of events visit us online at 
 moderntimesbookstore.com\n \nEVENT BOOKS ARE 10% OFF.\nMODERN TIMES IS 
 WHEELCHAIR ACCESSIBLE.\nALL EVENTS ARE FREE, OPEN TO THE PUBLIC, AND AT 
 MODERN TIMES UNLESS OTHERWISE INDICATED.\n\n 
 https://www.indybay.org/newsitems/2006/11/03/18326257.php
SUMMARY:SF: Danny Schechter: In Debt We Trust
LOCATION:Roxie Film Center at New College\n3117 16th St.\nSan Francisco, CA 94110
URL:https://www.indybay.org/newsitems/2006/11/03/18326257.php
DTSTART:20061111T030000Z
DTEND:20061111T050000Z
END:VEVENT
END:VCALENDAR
