BEGIN:VCALENDAR
VERSION:2.0
X-WR-CALNAME:www.indybay.org
PRODID:-//indybay/ical// v1.0//EN
BEGIN:VEVENT
UID:Indybay-18326168
SEQUENCE:18333067
CREATED:20061103T210000Z
DESCRIPTION:Richard Pombo was named one of the 10 Worst Congressmen by Rolling Stone 
 Magazine -- \n#7 Enemy of the Earth \n\nCome join Defenders of Wildlfie for 
 a Get Out the Vote Rally with Ben Affleck and Jennifer Garner.   We will 
 knock on doors all over Pleasanton, Dublin, and San Ramon to kick Pombo out 
 of office!\n\nFor more details, see our craigslist posting\n 
 https://www.indybay.org/newsitems/2006/11/03/18326168.php
SUMMARY:Defeat Pombo Day of Action with Ben Affleck and Jennifer Garner
LOCATION:Civic Park, 100 Main St., Pleasanton
URL:https://www.indybay.org/newsitems/2006/11/03/18326168.php
DTSTART:20061104T180000Z
DTEND:20061104T210000Z
END:VEVENT
END:VCALENDAR
