BEGIN:VCALENDAR
VERSION:2.0
X-WR-CALNAME:www.indybay.org
PRODID:-//indybay/ical// v1.0//EN
BEGIN:VEVENT
UID:Indybay-18325162
SEQUENCE:18331895
CREATED:20061031T231400Z
DESCRIPTION:This is a protest against the Military Commissions Act. For more 
 information check out myspace.com/antimilitarycommissions or our fliers at 
 http://fearchar.net/cal-mca-fliers/\n\nDefend the Bill of Rights and come 
 protest!\n\n https://www.indybay.org/newsitems/2006/10/31/18325162.php
SUMMARY:Protesting the Military Commissions Act
LOCATION:L street side of the Sacramento Capital Building
URL:https://www.indybay.org/newsitems/2006/10/31/18325162.php
DTSTART:20061111T220000Z
DTEND:20061112T000000Z
END:VEVENT
END:VCALENDAR
