BEGIN:VCALENDAR
VERSION:2.0
X-WR-CALNAME:www.indybay.org
PRODID:-//indybay/ical// v1.0//EN
BEGIN:VEVENT
UID:Indybay-18324913
SEQUENCE:18331618
CREATED:20061031T024900Z
DESCRIPTION:From a flyer based on material on 
 http://www.stealingamerica.org\n\nStealing America: Vote By Vote\na new 
 documentary by award winning filmmaker Dorothy Fadiman\n.\n"What Happened 
 in Ohio? A Documentary Record of Theft and Fraud in the 2004 
 Election."\n.\nFriday, November 3, 2006\n7:00-9:00PM\n.\nat  888 E Santa 
 Clara St @ 19th St, San Jose, CA 95116  \n(in the Temekula Gallery above 
 the Pagesincolor.com Fair Trade Store)\n\nFree Screening (donations 
 accepted)\n\n.\n"Stealing America: Vote By Vote" the new feature-length 
 documentary by Emmy-winning and Oscar-nominated filmmaker Dorothy Fadiman, 
 documents significant irregularities in the Presidential election of 2004 
 while underscoring the fact that election fraud and reform are not partisan 
 issues.\n.\n"Stealing America: Vote by Vote" weaves together dramatic 
 behind the scenes experiences of poll workers, computer security experts, 
 journalists, politicians, activists and voters of all ages.  We hear from 
 those who feel their communities were targeted for intimidation during the 
 election, side by side with descriptions of irregular machine tallies, in 
 which the number of votes tallied don't equal the number of votes 
 cast.\n.\n\nFor more information visit: http://www.stealingamerica.org\nor 
 http://www.pagesincolor.com .\nContact for information: (408) 
 410-0891\nSeating is limited.\n 
 https://www.indybay.org/newsitems/2006/10/30/18324913.php
SUMMARY:Stealing America: Vote By Vote (San Jose)
LOCATION:Temekula Gallery above the Pagesincolor.com Fair Trade store at 888 E Santa 
 Clara St, San Jose, Ca @ 19th st (There is a big Tax preparation service 
 sign above the Pagesincolor sign)
URL:https://www.indybay.org/newsitems/2006/10/30/18324913.php
DTSTART:20061104T030000Z
DTEND:20061104T050000Z
END:VEVENT
END:VCALENDAR
