BEGIN:VCALENDAR
VERSION:2.0
X-WR-CALNAME:www.indybay.org
PRODID:-//indybay/ical// v1.0//EN
BEGIN:VEVENT
UID:Indybay-18324894
SEQUENCE:18331594
CREATED:20061031T014200Z
DESCRIPTION:ROBERT SCHEER\n\nPresents his new book\nPLAYING PRESIDENT\nMy Relationships 
 with Nixon, Carter, Bush I, Reagan, and Clinton-and How They Did Not 
 Prepare Me for George W. Bush\n\nRobert Scheer has built a reputation for 
 strong social and political writing over his thirty years as a journalist. 
 His columns appear in newspapers across the country, and his in-depth 
 interviews have made headlines. He conducted the famous Playboy magazine 
 interview in which Jimmy Carter confessed to the lust in his heart and he 
 went on to do many interviews for the Los Angeles Times with Richard Nixon, 
 Ronald Reagan, Bill Clinton, and other prominent political and cultural 
 figures.\n\nIn 1993 he launched a nationally syndicated column based at the 
 Los Angeles Times, where he was named a contributing editor.  That column 
 ran weekly for the next twelve years and is now based at the San Francisco 
 Chronicle. Scheer can be heard on the political radio program "Left, Right 
 and Center" on KALW in San Francisco.  He has written seven books, 
 including Thinking Tuna Fish, Talking Death: Essays on the Pornography of 
 Power, With Enough Shovels: Reagan, Bush and Nuclear War, and America After 
 Nixon: The Age of Multinationals.\n\nCopies of Playing President will be 
 available for purchase and signing.\n\n$12 - $20 suggested donation.  
 Sponsored by Peninsula Peace and Justice Center.\n\n"Robert Scheer is one 
 of the best reporters of our time." - Joan Didion\n 
 https://www.indybay.org/newsitems/2006/10/30/18324894.php
SUMMARY:Robert Scheer: "Playing President" - Lecture and book-signing
LOCATION:First Presbyterian Church\n1140 Cowper Street, Palo Alto\n(Wheelchair 
 accessible)
URL:https://www.indybay.org/newsitems/2006/10/30/18324894.php
DTSTART:20061202T033000Z
DTEND:20061202T053000Z
END:VEVENT
END:VCALENDAR
