BEGIN:VCALENDAR
VERSION:2.0
X-WR-CALNAME:www.indybay.org
PRODID:-//indybay/ical// v1.0//EN
BEGIN:VEVENT
UID:Indybay-18323995
SEQUENCE:18330521
CREATED:20061028T063300Z
DESCRIPTION:The 27th annual presentation of\nThe Spiral Dance\na ritual to honor our 
 beloved dead and dance the spiral of rebirth\n\nWhen and where :: Beloved 
 Babies / Beloved Dead :: Volunteers :: Tickets :: Download the 
 flyer\n\nThis space is wheelchair accessible.\nAlll Reclaming events are 
 Clean and Sober; no drugs or alcohol, please.\nWhat is the Spiral 
 Dance?\n\nThe holiday popularly known as Halloween is the time of year 
 known to witches as Samhain, when the veil is thin between the worlds of 
 the living and the dead. We gather to remember and honor our ancestors, our 
 Beloved Dead, and all those who have crossed over. As we mourn for those we 
 love who have died this year, we also mourn the losses and pain suffered by 
 the Earth, our Mother. Yet even as we grieve we also remember and honor the 
 sacred cycle of life, death, rebirth and regeneration, celebrating the 
 births of our children born this year, and our own vital connections to the 
 Earth and each other, in which we ground our hope. more...\nWhen and 
 where\n\nSaturday, October 28 at Kezar Pavilion, 755 Stanyan Street, San 
 Francisco 94117 (north-east corner of Golden Gate Park, off the MUNI N 
 line).\n\nDoors open at 6:00PM and the ritual begins at 7:30 PM. Admission 
 is $15-$100, sliding scale, no one turned away for lack of funds.\n\nCome 
 early to view the altars.\nVia public transit\n\nPersonalized directions 
 ara available from 511.org\n\nTaking BART from East Bay, get off at 
 Embarcadero Station and get into the MUNI underground. Take the N Judah, 
 and get off at Stanyan, its the 2nd stop after the street car gets out of 
 the 2nd tunnel. Turn R and walk down Stanyan about 3 blocks down and on the 
 left side of the street.\n\nFrom the Sunset, take the N Judah downtown, get 
 off at Stanyan, turn L and walk down Stanyan about 3 blocks down and on the 
 left side of the street.\n\nFrom downtown SF or near Haight St, take the 
 7,66, or 71 Haight, all the way up Haight, and get off when it turns onto 
 Stanyan, and you will be almost right in front of it.\n\nFrom the Mission 
 and Castro areas, take the 33 Also, from the middle of the Richmond, take 
 the 33\n\nFrom Sunset, near Judah, take the N Judah, get off at Stanyan, 
 Turn L and walk down Stanyan about 3 blocks, looking on the left side of 
 the street.\n\nFrom 30th & Vicente in towards Quintara and then into the 
 lower Aves, the 66 will drop you right on Stanyan, basically across the 
 street from Kezar Pavilion\nBeloved babies and beloved dead\n\nlinks an 
 dmore of the text at:\n 
 https://www.indybay.org/newsitems/2006/10/27/18323995.php
SUMMARY:The Spiral Dance
LOCATION:\nSaturday, October 28 at Kezar Pavilion, 755 Stanyan Street, San Francisco 
 94117 (north-east corner of Golden Gate Park, off the MUNI N 
 line).\n\nDoors open at 6:00PM and the ritual begins at 7:30 PM. Admission 
 is $15-$100, sliding scale, no one turned away for lack of funds.
URL:https://www.indybay.org/newsitems/2006/10/27/18323995.php
DTSTART:20061029T010000Z
DTEND:20061029T070000Z
END:VEVENT
END:VCALENDAR
