BEGIN:VCALENDAR
VERSION:2.0
X-WR-CALNAME:www.indybay.org
PRODID:-//indybay/ical// v1.0//EN
BEGIN:VEVENT
UID:Indybay-18321160
SEQUENCE:18328639
CREATED:20061018T080100Z
DESCRIPTION:This is a benefit for people currently incarcerated and awaiting trial for 
 alleged participation in acts of ecologically motivated sabotage. Many of 
 the defendants are facing charges that carry a 30-year mandatory minimum 
 sentence, and some of them are facing longer than life sentences for 
 participating in the alleged acts of property damage in defense of the 
 environment. Several of those accused have cooperated with authorities in 
 this case, implicating others for reduced sentences. 100% of the donations 
 recieved will go directly to the non-cooperating prisoners support 
 funds.\n\n\nfeaturing:\n\nvegan/vegetarian food, homebrew spirits, 
 information and updates on ecoprisoners, live ambient and quiet music from 
 katabatik and 5lowershop artists\n \n 
 https://www.indybay.org/newsitems/2006/10/18/18321160.php
SUMMARY:SF: "Green Scare" benefit dinner
LOCATION:382 Bayshore Blvd, in San Francisco\nMore location information at : 
 http://www.katabatik.org/benefit
URL:https://www.indybay.org/newsitems/2006/10/18/18321160.php
DTSTART:20061023T020000Z
DTEND:20061023T080000Z
END:VEVENT
END:VCALENDAR
