BEGIN:VCALENDAR
VERSION:2.0
X-WR-CALNAME:www.indybay.org
PRODID:-//indybay/ical// v1.0//EN
BEGIN:VEVENT
UID:Indybay-18320818
SEQUENCE:18326752
CREATED:20061017T062200Z
DESCRIPTION:Make media that makes a difference!  Come by the New College Theater at 777 
 Valencia St. in San Francisco between 6:00 and 7:00 PM to learn about New 
 College's innovative media studies graduate program. Then stay to for the 
 John Ross event at 7:00 PM (see announcement below).\n \nOffering an 
 innovative media studies education for social change, the New College Media 
 Studies Graduate Program is founded on the belief that vibrant alternative 
 media are urgently needed to renew our democracy and achieve peace and 
 social justice.  The program encourages media makers to speak truth to 
 power, expose injustice and enable marginalized communities to utilize 
 media – and in these ways create a forum for the practice of democracy.   
 \n\nFor more information, call Mary Ellen Churchill at 415-437-3494.\n\n\n 
 https://www.indybay.org/newsitems/2006/10/16/18320818.php
SUMMARY:New College Media Studies MA Program - Information Session
LOCATION:New College Theater, 777 Valencia Street, San Francisco 
URL:https://www.indybay.org/newsitems/2006/10/16/18320818.php
DTSTART:20061028T010000Z
DTEND:20061028T020000Z
END:VEVENT
END:VCALENDAR
