BEGIN:VCALENDAR
VERSION:2.0
X-WR-CALNAME:www.indybay.org
PRODID:-//indybay/ical// v1.0//EN
BEGIN:VEVENT
UID:Indybay-18319281
SEQUENCE:18324889
CREATED:20061010T031100Z
DESCRIPTION:Sunday October 22, 1-4pm\nELECTION FORUM\nat the Berkeley Unitarian 
 Universalist Fellowship Hall\n1924 Cedar at Bonita w/c accessible,  all 
 welcome\nMayoral and City Council Candidates and Local and State\nBallot 
 Measures will be discussed.\nThe Social Justice Committee is non-partisan 
 and takes\nno positions on candidates or parties and has not 
 taken\npositions on local and state ballot measures.\nWe have invited all 
 candidates to come and the\nLeague of Women Voters will have presenters on 
 \nState Ballot Issues 2-4pm\nInformation Call 510-526-8419.\n\n\n 
 https://www.indybay.org/newsitems/2006/10/09/18319281.php
SUMMARY:Election Forum at BFUU
LOCATION:Berkeley Unitarian Universalist Fellowship Hall\n1924 Cedar at 
 Bonita\nBerkeley CA
URL:https://www.indybay.org/newsitems/2006/10/09/18319281.php
DTSTART:20061022T200000Z
DTEND:20061022T230000Z
END:VEVENT
END:VCALENDAR
