BEGIN:VCALENDAR
VERSION:2.0
X-WR-CALNAME:www.indybay.org
PRODID:-//indybay/ical// v1.0//EN
BEGIN:VEVENT
UID:Indybay-18317986
SEQUENCE:18323566
CREATED:20061004T234100Z
DESCRIPTION:Join the labor and tenants' communities and members of the Board of 
 Supervisors for a party supporting Propositions F and H!  \n\n6:00 PM to 
 8:30 PM \nThursday October 12th\nat the Housing Rights Committee\n\nDJs, 
 bar, free admission!\n\nProposition F will mandate paid sick days for all 
 workers in San Francisco.  For more information on Prop F, see the Campaign 
 for Paid Sick Days: http://www.paidsickdayssf.org/ \n\nProposition H will 
 mandate that landlords pay tenants money to relocate when tenants are 
 evicted through no fault of their own. \nFor more information on Prop H, 
 see the SF Tenants Union: http://www.sftu.org\n\nArt Auction, too, 
 featuring local artists.\n 
 https://www.indybay.org/newsitems/2006/10/04/18317986.php
SUMMARY:Party for Paid Sick Days and Tenants' Rights!
LOCATION:Housing Rights Committee of San Francisco\n427 South Van Ness. between 15th 
 and 16th
URL:https://www.indybay.org/newsitems/2006/10/04/18317986.php
DTSTART:20061013T010000Z
DTEND:20061013T033000Z
END:VEVENT
END:VCALENDAR
