BEGIN:VCALENDAR
VERSION:2.0
X-WR-CALNAME:www.indybay.org
PRODID:-//indybay/ical// v1.0//EN
BEGIN:VEVENT
UID:Indybay-18317578
SEQUENCE:18322970
CREATED:20061003T143100Z
DESCRIPTION:Working With Spirit\nThis event is co-sponsored with the Social Venture 
 Network.\n\n \n\nSome Questions We'll Consider ...\n\nHow does one stay in 
 touch with one's spirituality while engaged in day-to-day work activities? 
 Every working day presents challenges to our composure, ethics and 
 compassion. What practices, methods or insights help keep us grounded in 
 our higher selves, oriented to our center, and bringing forth expressions 
 of the divine in all our dealings?\n\n \n\nWe invite you to sit in the 
 circle bringing your curiosity to honestly inquire, your courage to be open 
 to new ideas and your passion to engage this inquiry with "humble 
 chutzpah". Whether you speak, or remain silent, this dialogue promises 
 something for everyone who works in the world and wishes to grow 
 spiritually.\n\nConversation Starters\n\nChip Conley, founder, Joie de 
 Vivre Hospitality, largest boutique hotel operator in California, includes 
 28 hotels, 8 restaurants and bars, and 3 day spas; author, Marketing That 
 Matters (forthcoming)\n\nMargot Fraser, founder and former owner of 
 Birkenstock Footprint Sandals, Inc., the original importer of Birkenstock 
 footwear in the United States\n\n \n\nYosi Amram, founder and CEO of two 
 companies, now an executive coach, currently working on his PhD in clinical 
 psychology focusing on spiritual intelligence\n\n \n\n \n\nEvent 
 Details\nRegistration 7:00 PM \nMeeting Begins 7:15 PM \nLocation Saybrook 
 Graduate School and Research Center\n747 Front St. (@ Broadway) 3rd Floor, 
 San Francisco\n(see map) \nSchedule First opening comments by Conversation 
 Starters, then dialogue with participants; estimated conclusion at 9:30 PM 
 \nAdmission $20 in advance by registering online; $25 in advance (by email, 
 phone or check); $30 at the door. \n\nTo register online, go to 
 events@saybrook.edu\n \n\n\n\n 
 https://www.indybay.org/newsitems/2006/10/03/18317578.php
SUMMARY:The Presidio Dialogues - Working with Spirit
LOCATION:Saybrook Graduate School - Third Floor\n747 Front Street (@ Broadway)\nSan 
 Francisco, CA
URL:https://www.indybay.org/newsitems/2006/10/03/18317578.php
DTSTART:20061025T020000Z
DTEND:20061025T043000Z
END:VEVENT
END:VCALENDAR
