BEGIN:VCALENDAR
VERSION:2.0
X-WR-CALNAME:www.indybay.org
PRODID:-//indybay/ical// v1.0//EN
BEGIN:VEVENT
UID:Indybay-18314028
SEQUENCE:18319184
CREATED:20060926T065300Z
DESCRIPTION:UNCONSTITUTIONAL: THE WAR ON OUR CIVIL LIBERTIES\n \nFilm Series on 
 Reigning Lies \nFilms by Robert Greenwald \n\nIn this documentary, Robert 
 Greenwald, executive producer, and Nonny de la Peña, writer and director, 
 show us how our civil liberties and our freedoms have been trampled upon by 
 the U.S. government since 9/11. The Patriot Act passed through Congress 
 just 45 days after September 11 with virtually no debate. Since then, 
 paranoia, fear, and racial profiling have led to gross infringements on 
 freedom and democracy without strengthening national security. This film 
 illuminates administration lies and the real victims of wrong-headed 
 policies: the American people. It gives us the real story behind the 
 Patriot Act and other administration policies by showing us the reality of 
 some of those affected -- from law-abiding store clerks to U.S. Olympians 
 unable to travel. Greenwald believes that the more we Americans understand 
 what is at stake, and what has already been lost, the more determined we 
 will become to protect our rights. \n\nHumanist Hall is the only 
 solar-powered movie theatre in the Bay Area \n\nBefore and after the films, 
 everyone’s invited to indulge in our Humanist Tea House \n\n$5 donations 
 are accepted\n\n https://www.indybay.org/newsitems/2006/09/25/18314028.php
SUMMARY:Unconstitutional: the War on our Civil Liberties
LOCATION:Humanist Hall\n390  27th  Street\nmidtown Oakland, between telegraph and 
 Broadway, below Pill Hill\nhttp://www.HumanistHall.net
URL:https://www.indybay.org/newsitems/2006/09/25/18314028.php
DTSTART:20061028T023000Z
DTEND:20061028T043000Z
END:VEVENT
END:VCALENDAR
