BEGIN:VCALENDAR
VERSION:2.0
X-WR-CALNAME:www.indybay.org
PRODID:-//indybay/ical// v1.0//EN
BEGIN:VEVENT
UID:Indybay-18313986
SEQUENCE:18322004
CREATED:20060926T041500Z
DESCRIPTION:“In the end, we will remember not the words of our enemies, but the 
 silence of our friends.”  Dr. Martin Luther King, Jr.\n\nA workshop 
 presented by The UNtraining, a program for untraining white liberal racism. 
 As white people, we are trained to be “white” whether we know it or 
 not.  And we benefit from “white privilege” whether we like it or not.  
 Yet we don’t talk with each other about our own racial identity or our 
 difficult feelings about race.  How can white people reconcile our 
 heartfelt antiracist beliefs with our cultural conditioning in a way that 
 shifts shame, guilt and silence around race issues? The UNtraining offers a 
 provocative and compassionate approach to helping white people wake 
 themselves up and become better allies in the fight against racism. \n\n 
 https://www.indybay.org/newsitems/2006/09/25/18313986.php
SUMMARY:Untraining White Liberal Racism
LOCATION:Berkeley High School Library\n1980 Allston Way, Berkeley
URL:https://www.indybay.org/newsitems/2006/09/25/18313986.php
DTSTART:20060930T200000Z
DTEND:20061001T000000Z
END:VEVENT
END:VCALENDAR
