BEGIN:VCALENDAR
VERSION:2.0
X-WR-CALNAME:www.indybay.org
PRODID:-//indybay/ical// v1.0//EN
BEGIN:VEVENT
UID:Indybay-18313108
SEQUENCE:18322001
CREATED:20060922T013400Z
DESCRIPTION:Please come out on the 30th of SEPt. to help our small coastal community 
 protest the purchase of the 550 acre Dante Calvi Ranch(1001 Bay Hill rd. 
 Bodega Bay) by the Dutra Group(Dutragroup.com) for a large scale open-pit 
 aggregate mining operation. We as a community are united along with 
 surfrider foundation, sierra club, and many others in opposing all 
 corporate mining on our pristine coastline.\nsavebayhill.org\nPeace\n 
 https://www.indybay.org/newsitems/2006/09/21/18313108.php
SUMMARY:"No Quarry On The Coast" in Bodega
LOCATION:Bodega Bay, Just North of the Tides Texaco on Coast Hwy One\nIn front of 
 the proposed "Harbor View" Subdivision\nDowntown Bodega Bay, can't miss us
URL:https://www.indybay.org/newsitems/2006/09/21/18313108.php
DTSTART:20060930T220000Z
DTEND:20061001T020000Z
END:VEVENT
END:VCALENDAR
