BEGIN:VCALENDAR
VERSION:2.0
X-WR-CALNAME:www.indybay.org
PRODID:-//indybay/ical// v1.0//EN
BEGIN:VEVENT
UID:Indybay-18313047
SEQUENCE:18318096
CREATED:20060921T235200Z
DESCRIPTION:About the Film\nThis kooky comedy from South Africa follows Max (Mpho 
 Lovinga), a Candide-like innocent who travels from the country to 
 Johannesburg to become a doctor. Accidentally given the family’s sacred 
 goat to bring to his ne’er-do-well Uncle Norman (Jerry Mofokeng), Max 
 finds himself (and the goat) mired in his uncle’s debts to an 
 unscrupulous crime lord. And Uncle Norman discovers that Max, the most 
 gifted professional mourner in the country, could be a profitable source of 
 badly-needed cash. Filmmaker Teddy Mattera creates a rollicking mix of 
 farce and folly in this contemporary tale.\n\nIn English.\nWriters: Teddy 
 Mattera, Greg Latter. Director: Teddy Mattera. (South Africa 2004) 98 min. 
 \n\nSan Francisco Art Institute is proud to present Global Lens 2006. Now 
 in its fourth year, Global Lens offers international feature-length films 
 organized by The Global Film Initiative, a non-profit organization founded 
 to promote cross-cultural understanding through cinema. Recognizing that 
 great storytelling can influence human affairs as well as foster trust and 
 respect between disparate cultures, The Global Film Initiative reaches out 
 to independent filmmakers around the world and debuts their films in the 
 US. \n\nSan Francisco Art Institute, California Film Institute, Grand Lake 
 Theater, and the Mexican Heritage Plaza are the exclusive Northern 
 California partners for the Global Lens tour, which includes special 
 outreach presentations for school groups as well as the following public 
 screenings at SFAI. Visit the SFAI website for complete film 
 notes.\n\nSeptember 6\nStolen Life (Sheng si jie) \n\nSeptember 11\nThirst 
 (Atash)\n\nSeptember 13 \nCinema, Aspirins and Vultures (Cinema, aspirinas 
 e urubus)\n\nSeptember 18 \nGlobal Shorts\n\nSeptember 20\nAlmost Brothers 
 (Quase dois irmãos)\n\nSeptember 25 \nMax and Mona\n\nSeptember 27 \nIn 
 the Battlefields (Maarek hob)\n\nOctober 2\nBorder Café (Café 
 Transit)\n\nOctober 4\nThe Night of Truth (La Nuit de la vérité)\n\n 
 https://www.indybay.org/newsitems/2006/09/21/18313047.php
SUMMARY:'Max and Mona' - SFAI Hosts Global Lens Film Festival
LOCATION:800 Chestnut Street\n415.771.7020\nwww.sfai.edu
URL:https://www.indybay.org/newsitems/2006/09/21/18313047.php
DTSTART:20060926T023000Z
DTEND:20060926T043000Z
END:VEVENT
END:VCALENDAR
