BEGIN:VCALENDAR
VERSION:2.0
X-WR-CALNAME:www.indybay.org
PRODID:-//indybay/ical// v1.0//EN
BEGIN:VEVENT
UID:Indybay-18312835
SEQUENCE:18317856
CREATED:20060920T213800Z
DESCRIPTION:An oral and slide presentation on both the historical development and 
 current state of German and other European Squats and Infoshops. Dinner at 
 7:00 followed by presentation at 7:30.\n 
 https://www.indybay.org/newsitems/2006/09/20/18312835.php
SUMMARY:German Squats and Infoshops
LOCATION:Long Haul\n3124 Shattuck Ave.\nBerkeley
URL:https://www.indybay.org/newsitems/2006/09/20/18312835.php
DTSTART:20060925T020000Z
DTEND:20060925T050000Z
END:VEVENT
END:VCALENDAR
