BEGIN:VCALENDAR
VERSION:2.0
X-WR-CALNAME:www.indybay.org
PRODID:-//indybay/ical// v1.0//EN
BEGIN:VEVENT
UID:Indybay-18312828
SEQUENCE:18317849
CREATED:20060920T210500Z
DESCRIPTION:BRENT PLATER, Bay Area Director, Center for Biological Diversity\n\nIs 
 Congress turning its back on threatened species? The Endangered Species Act 
 has been the safety net for fish, wildlife and plants facing extinction. 
 But in 2005, the House of Representatives voted to weaken the statute, 
 which could doom fragile ecosystems. Plater explains how we can protect 
 otherwise defenseless species. \n\n\n 
 https://www.indybay.org/newsitems/2006/09/20/18312828.php
SUMMARY:NO ROOM ON THE ARK? EVISCERATING THE ENDANGERED SPECIES ACT
LOCATION:Commonwealth Club office, 595 Market St., 2nd Floor, San Francisco \nSee 
 http://www.commonwealthclub.org/directions.html for directions
URL:https://www.indybay.org/newsitems/2006/09/20/18312828.php
DTSTART:20060926T003000Z
DTEND:20060926T020000Z
END:VEVENT
END:VCALENDAR
