BEGIN:VCALENDAR
VERSION:2.0
X-WR-CALNAME:www.indybay.org
PRODID:-//indybay/ical// v1.0//EN
BEGIN:VEVENT
UID:Indybay-18312256
SEQUENCE:18317170
CREATED:20060917T224800Z
DESCRIPTION:On 9/28 join local activists for meetings with Senator Feinstein, Senator 
 Boxer, and House Minority Leader Pelosi to demand an end to 
 torture.\n\nMeet Thursday, September 28, 8:30am at Senator Feinstein's 
 office (Montgomery & Market)\n\nWe are arranging appointments with both 
 senators and House Minority Leader Pelosi, and we'll start with our visit 
 to Senator Feinstein when her office opens at 9am. \n\nWe'll be wearing 
 orange jumpsuits and bearing a very large gift: an orange-ribbon-wrapped 
 cage to represent the reprehensible torture and indefinite detention that 
 our legislators have enabled or failed to prevent over the past five years, 
 at Guantanamo Bay in Cuba, Abu Ghraib in Iraq, Bagram AFB in Afghanistan, 
 and in secret prisons and other torture-sites all over the world.\n\nSince 
 it's pretty unlikely we'll be allowed to deliver a large cage in Sen. 
 Feinstein's building, we plan to carry it around the city -- to Pelosi's 
 and Boxer's offices -- looking for an elected official who will take 
 responsibility for the government's heinous activities.\n\nWe'll have about 
 a dozen jump suits on-hand (or bring your own!), and will also have orange 
 t-shirts with demands (and our URL) printed on them for folks to wear (and, 
 optionally, to buy).\n\nPlease ... mark your calendar today!!!\n \n 
 https://www.indybay.org/newsitems/2006/09/17/18312256.php
SUMMARY:Act Against Torture
LOCATION:Outside Senator Feinstein's office - Montgomery & Market
URL:https://www.indybay.org/newsitems/2006/09/17/18312256.php
DTSTART:20060928T153000Z
DTEND:20060928T180000Z
END:VEVENT
END:VCALENDAR
