BEGIN:VCALENDAR
VERSION:2.0
X-WR-CALNAME:www.indybay.org
PRODID:-//indybay/ical// v1.0//EN
BEGIN:VEVENT
UID:Indybay-18311959
SEQUENCE:18316837
CREATED:20060916T025100Z
DESCRIPTION:Gary Yourofsky has spoken to thousands of students about the true meaning 
 of animal rights using thought provoking prose, inspiring stories, 
 indisputable facts, quotes from Alice Walker, Pythagoras and other great 
 thinkers, plus graphic footage from fur farms, laboratories, factory farms 
 and more, to ask people to be kind to animals, and ultimately, go vegan.\n 
 https://www.indybay.org/newsitems/2006/09/15/18311959.php
SUMMARY:Gary Yourofsky Lecture at the Infoshop (Fresno)
LOCATION:935 F st. in Fresnos Historic Chinatown.
URL:https://www.indybay.org/newsitems/2006/09/15/18311959.php
DTSTART:20060927T020000Z
DTEND:20060927T040000Z
END:VEVENT
END:VCALENDAR
