BEGIN:VCALENDAR
VERSION:2.0
X-WR-CALNAME:www.indybay.org
PRODID:-//indybay/ical// v1.0//EN
BEGIN:VEVENT
UID:Indybay-18310170
SEQUENCE:18314965
CREATED:20060913T212600Z
DESCRIPTION:\n \n\nNew College of California North Bay\n\n\n\nWednesday, Sept 13,  6:30 
 pm. In this third lecture in the series, Brock Dolman, Director of the 
 Occidental Arts and Ecology Center’s WATER Institute, will be joined by 
 Dylan Coleman of Wonderwater Rain Catchment Systems to discuss how to 
 harvest rainwater from your roof for use both in your home and in your 
 landscaping. Learn about the components of a roof catchment system and how 
 to evaluate the ecological and economical appropriateness for such a system 
 in your home. In addition, we will look at how people worldwide are 
 utilizing rainwater catchment as an effective means for providing potable 
 water to entire communities. Free\n\n 
 https://www.indybay.org/newsitems/2006/09/13/18310170.php
SUMMARY:Roof Catchment and Rainwater Harvesting
LOCATION:New College 99 6th St., Santa Rosa (6th & Wilson in Railroad Square)
URL:https://www.indybay.org/newsitems/2006/09/13/18310170.php
DTSTART:20060914T013000Z
DTEND:20060914T030000Z
END:VEVENT
END:VCALENDAR
