BEGIN:VCALENDAR
VERSION:2.0
X-WR-CALNAME:www.indybay.org
PRODID:-//indybay/ical// v1.0//EN
BEGIN:VEVENT
UID:Indybay-18307508
SEQUENCE:18312181
CREATED:20060910T213500Z
DESCRIPTION:Come to the African People's Solidarity Day Campaign meeting to learn about 
 the campaign to win white solidarity with the movement to liberate and 
 unite Africa and African people.\n\nWe will have an overview of the 
 campaign, show a video of the Uhuru Movement organizer Diop Olugbala of the 
 African People's Socialist Party and discuss our plans to let the Bay Area 
 know about the African People's Solidarity Day events on November 4th and 
 5th in Oakland and San Francisco!\n\nwww.apscuhuru.org\n510-625-1106\n 
 https://www.indybay.org/newsitems/2006/09/10/18307508.php
SUMMARY:African People's Solidarity Day Campaign Meeting
LOCATION:1601 - 2nd Avenue, Oakland\n(near E. 18th and Lake Merritt)
URL:https://www.indybay.org/newsitems/2006/09/10/18307508.php
DTSTART:20060912T020000Z
DTEND:20060912T020000Z
END:VEVENT
END:VCALENDAR
