BEGIN:VCALENDAR
VERSION:2.0
X-WR-CALNAME:www.indybay.org
PRODID:-//indybay/ical// v1.0//EN
BEGIN:VEVENT
UID:Indybay-18307142
SEQUENCE:18311762
CREATED:20060908T171200Z
DESCRIPTION:IDEX invites you to an informal discussion with Memory Bandera, one of the 
 first girls to be a member of Girl Child Network. Memory will speak about 
 her participation with, the UNDP Red Ribbon winner, GCN and how her work 
 with GCN propelled her where she is today. It’s a great chance to meet a 
 woman who started as a member of GCN and hear from her perspective about 
 the work of one of IDEX’s partners. $10 recommended donation – no one 
 turned away.\n\n\n\n 
 https://www.indybay.org/newsitems/2006/09/08/18307142.php
SUMMARY:Voice of New Generation: A Young Zimbabwean Woman Talks about Her Experiences and Her Fut
LOCATION:The Women’s Building, 3453 18th Street, San Francisco. For directions go 
 to http://www.womensbuilding.org/public/about/contact.html
URL:https://www.indybay.org/newsitems/2006/09/08/18307142.php
DTSTART:20060927T013000Z
DTEND:20060927T030000Z
END:VEVENT
END:VCALENDAR
