BEGIN:VCALENDAR
VERSION:2.0
X-WR-CALNAME:www.indybay.org
PRODID:-//indybay/ical// v1.0//EN
BEGIN:VEVENT
UID:Indybay-18301075
SEQUENCE:18305376
CREATED:20060827T080400Z
DESCRIPTION:Please join Justice for Palestinians in our weekly protest against the 
 continued genocidal war of Apartheid Israel against Palestine and the 
 Palestinian people The situation in Palestine continues to be CRITICAL and 
 in Gaza it is the new CATASTROPHE. The attacks upon all aspects of 
 Palestinian life, including culture, land, personal property continues 
 unabated and with impunity. The Apartheid State of Israel is committing 
 genocide and War Crimes on a daily basis. The illegal Apartheid Wall is 
 making new "facts" on the ground, stealing more Palestinian land and water 
 resources and enclosing more and more Palestinians into Open Air Prisons. 
 In addition, they are using new weapons against innocent civilians who are 
 just living their lives - at school, at work, at home. One of the newer 
 weapons of torture and death are sound-bombs.\n\nNow Apartheid Israel is 
 re-invading and re-Occupying Lebanon, The U.S. backed Israeli war machine 
 is murdering Lebanese citizens, children, women and men, with impunity. The 
 real count must be in the thousands! So many human beings are still lying 
 underneath the rubble of their homes. The Apartheid War Criminal Israeli 
 army is using illegal weaponry, bought and paid for by U.S. tax dollars, 
 weapons like cluster bombs, phospherous bombs, bunker busters containing 
 Depleted Uranium. The racist U.S. regime and Apartheid Israel is now saying 
 that Sayyid Hassan Nasrallah is like Osama Bin Laden, basically saying that 
 it is okay if Apartheid Israel assassinates him. The Israeli Occupation 
 Forces are still occupying Lebanon and are still killing innocent Lebanese 
 people, including those who are defending the land against the 
 invader.\n\nAnyone who wants to join us is welcome to stand with 
 us.\n\nProtest against Israeli Occupation, aggression, terror & genocide of 
 the Palestinian and Lebanese people.\n\nStop the building of the Apartheid 
 Wall! Tear it down NOW!\n\nDemand Palestinian Right to Return, Palestinian 
 Statehood, End all U.S. Aid to Israel, Divest from Israel NOW!\n\nDemand 
 the end of U.S. backing of Israeli atrocities!\n\nIn addition:\n* U.S., 
 French, Canadian, and all U.N. troops out of Haiti NOW!\n* Let the Haitians 
 to rule themselves and bring Jean Bertrand Aristide to go home to Haiti!\n* 
 END THE U.S./BRITISH OCCUPATION OF IRAQ NOW!\n* End the U.S. Occupation of 
 Afghanistan!\n* Demand an end to U.S. Sanctions on Haiti, Libya, Iran, 
 Cuba!\n* U.S. out of Philipines, Colombia, Vieques, Okinawa, Guantanamo 
 Bay!\n* Free all the illegally held prisoners of war in Guantanamo Bay!\n* 
 Free all the illegally held detainees in U.S. prisons!\n* Free all 
 political prisoners and prisoners of war in all U.S. prisons!\n\nJustice 
 for Palestinians protests this week:\nWhen:	Wednesday, 30th August 
 2006\nTime:	5:00pm to 6:00pm\nWhere: corner of Market & San Carlos 
 Streets, south end of Cesar Chavez Park, San Jose, CA\n\nI'm hoping that 
 you can join us. If you have any questions, please contact me, Donna at 
 email: dbwall@earthlink.net.\n\nin solidarity,\nDonna\n 
 https://www.indybay.org/newsitems/2006/08/27/18301075.php
SUMMARY:Weekly Wednesday Protest - Justice for Palestinians
LOCATION:Corner of Market and San Carlos Streets, south end of Cesar Chavez Plaza in 
 downtown San Jose, near the Convention Center lightrail station.
URL:https://www.indybay.org/newsitems/2006/08/27/18301075.php
DTSTART:20060831T000000Z
DTEND:20060831T010000Z
END:VEVENT
END:VCALENDAR
