BEGIN:VCALENDAR
VERSION:2.0
X-WR-CALNAME:www.indybay.org
PRODID:-//indybay/ical// v1.0//EN
BEGIN:VEVENT
UID:Indybay-18300589
SEQUENCE:18304857
CREATED:20060825T190000Z
DESCRIPTION:***The Campaign to Raise the Minimum Wage***\n\nAn Evening of Political 
 Humor with Will Durst\n\nFriday, August 25, 6:30 pm\nUnited Methodist 
 Church\n250 California Street between Laurel and Bay in Santa Cruz\n\nLight 
 refreshments and beverages will be served\n\nFeaturing:\nFred 
 Keeley\nAuctioneer Extraordinaire\nLending his considerable talents for 
 Voter Registration Objects of Art and the Provision of Labor will be for 
 auction\n\nCost: $9.25 - Low Wage Workers\n$20-$50 - General Admission\n 
 https://www.indybay.org/newsitems/2006/08/25/18300589.php
SUMMARY:Campaign to Raise the Minimum Wage
LOCATION:United Methodist Church\n250 California Street \nbetween Laurel and Bay in 
 Santa Cruz
URL:https://www.indybay.org/newsitems/2006/08/25/18300589.php
DTSTART:20060826T013000Z
DTEND:20060826T040000Z
END:VEVENT
END:VCALENDAR
