BEGIN:VCALENDAR
VERSION:2.0
X-WR-CALNAME:www.indybay.org
PRODID:-//indybay/ical// v1.0//EN
BEGIN:VEVENT
UID:Indybay-18300358
SEQUENCE:18304578
CREATED:20060824T182100Z
DESCRIPTION:monthly Critical Mass Bike Ride, take the streets!\n 
 https://www.indybay.org/newsitems/2006/08/24/18300358.php
SUMMARY:Critical Mass
LOCATION:Clocktower
URL:https://www.indybay.org/newsitems/2006/08/24/18300358.php
DTSTART:20060826T000000Z
DTEND:20060826T020000Z
END:VEVENT
END:VCALENDAR
