BEGIN:VCALENDAR
VERSION:2.0
X-WR-CALNAME:www.indybay.org
PRODID:-//indybay/ical// v1.0//EN
BEGIN:VEVENT
UID:Indybay-18300160
SEQUENCE:18304356
CREATED:20060824T022200Z
DESCRIPTION:Bob Watada speaks about his son, Lt. Ehren Watada who is the first U.S. 
 Commissioned officer to refuse to participate in the U.S. occupation of 
 Iraq. \n\nSliding scale donation for Lt. Watadas legal defense fund. \n 
 https://www.indybay.org/newsitems/2006/08/23/18300160.php
SUMMARY:Ending the Occupation One Soldier at a Time
LOCATION:Newman Center, 5900 Newman Ct., Sac. 
URL:https://www.indybay.org/newsitems/2006/08/23/18300160.php
DTSTART:20060825T020000Z
DTEND:20060825T040000Z
END:VEVENT
END:VCALENDAR
