BEGIN:VCALENDAR
VERSION:2.0
X-WR-CALNAME:www.indybay.org
PRODID:-//indybay/ical// v1.0//EN
BEGIN:VEVENT
UID:Indybay-18299713
SEQUENCE:18303827
CREATED:20060822T192900Z
DESCRIPTION:Larry Everest will be speaking about the current situation in the Middle 
 East, focussing on American and Israeli war crimes in Iraq and Lebanon and 
 the looming danger of a wider war against Iran.  \n\nThis Event is part of 
 the World Can't Wait -- Drive out the Bush Regime! Youth and Student 
 Conference but is open to the public.  $5-10 donation.  \n 
 https://www.indybay.org/newsitems/2006/08/22/18299713.php
SUMMARY:Larry Everest (author of "Oil, Power, and Empire") on the situation in the Middle East
LOCATION:SEIU Local 87 -- 240 Golden Gate Ave. (near Civic Center BART)
URL:https://www.indybay.org/newsitems/2006/08/22/18299713.php
DTSTART:20060826T020000Z
DTEND:20060826T040000Z
END:VEVENT
END:VCALENDAR
