BEGIN:VCALENDAR
VERSION:2.0
X-WR-CALNAME:www.indybay.org
PRODID:-//indybay/ical// v1.0//EN
BEGIN:VEVENT
UID:Indybay-18299073
SEQUENCE:18303203
CREATED:20060821T083400Z
DESCRIPTION:BABA SAY\n\nA New Monthly Open Mic \nEvery 4th Thursday \nBeginning August 
 24th\n\nLive interpretive music for the poets and the soul\nOpen freestyle 
 jam after the poetry\nAlways FREE\nWord of mouth...so pass the word!\nSign 
 up at 7pm\nBring a horn, bring a drum!\nCome enjoy music, community, and 
 the healing art of the spoken word!\nAt the bays beautiful new art space in 
 East Oakland warehouse dist.\n\n21 & up w/ID\nYou've gotta see it to 
 believe it!\nSee you there!\n\n 
 https://www.indybay.org/newsitems/2006/08/21/18299073.php
SUMMARY:Baba Say A New Monthly Open Mic
LOCATION:House of Stormz\n1439 105th Ave @ International blvd\nOakland, CA
URL:https://www.indybay.org/newsitems/2006/08/21/18299073.php
DTSTART:20060825T020000Z
DTEND:20060825T070000Z
END:VEVENT
END:VCALENDAR
