BEGIN:VCALENDAR
VERSION:2.0
X-WR-CALNAME:www.indybay.org
PRODID:-//indybay/ical// v1.0//EN
BEGIN:VEVENT
UID:Indybay-18298557
SEQUENCE:18302592
CREATED:20060819T052800Z
DESCRIPTION:Saturday, August 26th, Modesto: Central Valley Patients Coalition 
 Meeting*\n\n4213 McHenry Ave #F in Modesto, CA 95354 at 1:00pm.\n\n_Agenda 
 Topics for next meeting:_\n \n - Support for Mike on his court date\n - 
 Results from the letters campaign\n - Help for those that didn't do 
 letters\n - Possibility of making postings for Mike's court date in The 
 Healthy \nChoice\n\n-----------\n 
 https://www.indybay.org/newsitems/2006/08/18/18298557.php
SUMMARY:Modesto: Central Valley Patients Coalition Meeting
LOCATION:4213 McHenry Ave #F in Modesto, CA 95354 at 1:00pm.
URL:https://www.indybay.org/newsitems/2006/08/18/18298557.php
DTSTART:20060826T200000Z
DTEND:20060826T220000Z
END:VEVENT
END:VCALENDAR
