BEGIN:VCALENDAR
VERSION:2.0
X-WR-CALNAME:www.indybay.org
PRODID:-//indybay/ical// v1.0//EN
BEGIN:VEVENT
UID:Indybay-18298217
SEQUENCE:18302221
CREATED:20060817T202400Z
DESCRIPTION:The film shows the issue of immigration into the U.S. from the perspective 
 of the undocumented worker\n\nFilm Screening:\n\nWATSONVILLE BROWN BERETS 
 PRESENT\n\nWetback: The Undocumented Documentary\n\ntells the real story of 
 immigration to the United States. Filmmaker Arturo Perez Torres follows in 
 the footsteps of two friends traveling over land from Nicaragua to the U.S. 
 The film shows the issue of immigration into the U.S. from the perspective 
 of the undocumented worker. It reveals the poverty that drives workers 
 across the U.S. bordera poverty that causes them to literally risk life and 
 limb to provide for their families that they leave behind. The film is 
 about survival that drives immigrants to travel thousands of miles, facing 
 Mexican police and gangs and the Border Patrol and the vigilantes in the 
 U.S. 97min. 2005\n\n“Wetback” cuenta la historia verdadera sobre 
 inmigración en los Estados Unidos. El cineasta Arturo Pérez Tores sigue 
 los pasos de dos de sus amigos, viajando por Nicaragua hasta los Estados 
 Unidos. Esta película nos habla sobre los problemas de inmigración hacia 
 los Estados Unidos desde el punto de vista de trabajadores indocumentados. 
 Nos revela la pobreza que obliga a trabajadores a cruzar la frontera entre 
 México y Estados Unidos— Una pobreza que causa que los inmigrantes 
 pongan en riesgo sus vidas para proveer para sus familias que dejan atrás 
 en sus países. Esta película es sobre como sobrevivir, lo cual lleva a 
 muchos inmigrantes a viajar miles de millas, a enfrentarse a la Policía 
 Mexicana, Pandillas, la migra y los vigilantes en los Estados Unidos. 97 
 min. 2005\n\n6PM FRIDAY SEPTEMBER 1, 2006\nBROWN BERETS MEETING ROOM\n406 
 Main Street Suite 408b\n(Behind Ritmo Latino Music Store)\n\nDOCUMENTARY 
 FOLLOWED BY LA PENA DE WAZTLANCO\nFOOD, DANCE, MUSIC, POETRY AND FIRME 
 GENTE!\n\nhttp://www.opencityworks.com/wetback\nhttp://WWW.BROWNBERETS.INFO\n 
 https://www.indybay.org/newsitems/2006/08/17/18298217.php
SUMMARY:Film: Wetback: The Undocumented Documentary
LOCATION:BROWN BERETS MEETING ROOM\n406 Main Street Suite 408b\n(Behind Ritmo Latino 
 Music Store)
URL:https://www.indybay.org/newsitems/2006/08/17/18298217.php
DTSTART:20060902T010000Z
DTEND:20060902T050000Z
END:VEVENT
END:VCALENDAR
