BEGIN:VCALENDAR
VERSION:2.0
X-WR-CALNAME:www.indybay.org
PRODID:-//indybay/ical// v1.0//EN
BEGIN:VEVENT
UID:Indybay-18297962
SEQUENCE:18301928
CREATED:20060817T005700Z
DESCRIPTION:COMMONWEALTH CLUB / LGBT Member-Led Forum \n\nHUMPHREY WOU, Program 
 Director, AIDS Relief Fund for China\nCHUNG TO, Chair and Founder, Chi Heng 
 Foundation of Hong Kong; Member, Hong Kong Government AIDS Prevention and 
 Care Committee\nMARK CLOUTIER, Executive Director, San Francisco AIDS 
 Foundation and Pangaea Global Aids Foundation - Moderator \n \nAs the AIDS 
 epidemic turns 25, panelists working to combat AIDS in China will discuss 
 the battles ahead. Chung To will discuss the situation and future of AIDS 
 orphans in central China as well as the risk and challenges of doing aids 
 prevention among gay men. Humphrey Wou will describe his work interviewing 
 Chinese activist leaders and finding grantees. He has also made short films 
 in afflicted villages, and will show one at the end of the program. Mark 
 Cloutier will share his extensive experience through the role of moderator. 
 \n \n5:30 p.m., Reception | 6:00 p.m., Program | Club office, 595 Market 
 St., 2nd Floor, San Francisco | Free for Members, $15 for 
 Non-Members\nProgram Organizer: Laurie Wagner 
 lauriehwagner@aol.com\nGenerously co-sponsored by Dominican University of 
 California.\n \n\n 
 https://www.indybay.org/newsitems/2006/08/16/18297962.php
SUMMARY:More than Red Ribbons or Rainbow Flags: Response to AIDS in China
LOCATION:Commonwealth Club\n595 Market Street, 2nd Floor\n \n
URL:https://www.indybay.org/newsitems/2006/08/16/18297962.php
DTSTART:20060831T010000Z
DTEND:20060831T020000Z
END:VEVENT
END:VCALENDAR
