BEGIN:VCALENDAR
VERSION:2.0
X-WR-CALNAME:www.indybay.org
PRODID:-//indybay/ical// v1.0//EN
BEGIN:VEVENT
UID:Indybay-18297049
SEQUENCE:18303345
CREATED:20060814T034300Z
DESCRIPTION:DO NOT USE AFTER: August 26, 2006 \n\nRE:    Radical Women Forum\n\nSan 
 Francisco. Saturday, August 26, 2006. \n\n In the spirit of suffragists who 
 battled to win the vote for U.S. women, a panel of Bay Area activists will 
 discuss their work as leaders in the fight for full citizenship rights for 
 all immigrants.  A scrumptious international buffet dinner, with vegetarian 
 option, will be served at 6:00 p.m. for an $8.50 donation. The door 
 donation is $3-5.00; no one turned away for lack of funds. All welcome. For 
 more information or to arrange childcare or work exchanges (three days 
 advance notice), call 415-864-1278, email rwbayarea@yahoo.com or visit 
 www.radicalwomen.org.\n\n# # #\n\n 
 https://www.indybay.org/newsitems/2006/08/13/18297049.php
SUMMARY:The Power of Immigrant Women: Forging an Inclusive Movement
LOCATION:The event is sponsored by Radical Women and will be held on Saturday, 
 August 26 at 7:30 p.m. at New Valencia Hall, 1908 Mission Street (one block 
 north of 16th Street BART) in San Francisco.
URL:https://www.indybay.org/newsitems/2006/08/13/18297049.php
DTSTART:20060827T020000Z
DTEND:20060827T043000Z
END:VEVENT
END:VCALENDAR
