BEGIN:VCALENDAR
VERSION:2.0
X-WR-CALNAME:www.indybay.org
PRODID:-//indybay/ical// v1.0//EN
BEGIN:VEVENT
UID:Indybay-18296018
SEQUENCE:18300023
CREATED:20060810T222300Z
DESCRIPTION:Nurses Vs. Arnold Set for Simultaneous Premieres in Los Angeles, 
 Sacramento, Bay Area on August 24\n\n \n\nNew Robert Greenwald-Produced 
 Film Documents Arnold Schwarzenegger’s Struggle with California 
 Nurses--and How it Launched a Movement to Clean Up Corruption in 
 Politics\n\n \n\nThe California Nurses Association and award-winning 
 producer Robert Greenwald will premier Nurses Vs. Arnold: Terminating 
 Political Corruption, a film documenting the historical struggle the 
 California Nurses Association engaged in with Arnold Schwarzenegger over a 
 patient-safety law.  \n\n \n\nThis struggle is widely credited with 
 sparking Schwarzenegger’s fall in approval ratings from near 70% to 35% 
 over a few months—and inspired the nurses to place Proposition 89 on the 
 November ballot, which will reduce the influence of special-interest donors 
 over politics and clean up the corruption endemic to California 
 politics.\n\n \n\nThe film will premiere simultaneously in three historic 
 theaters, and will serve as the basis of an massive grassroots organizing 
 campaign around the state that will bring thousands of activists together 
 in hundreds of house parties and other venues to fight for the passage of 
 Prop. 89, and will also be distributed to activists online.\n\n \n\nWhat:   
            Premiere of Nurses Vs. Arnold\n\nWhen:             Thursday, 
 July 24, 7:00 p.m.\n\nWhere:            -Los Angeles\n\n                    
                 The Music Box Theater, 6126 Hollywood Boulevard\n\n         
                -Sacramento\n\n                                    The Crest 
 Theater, 1013 K Street\n\n                        -Oakland\n\n              
                       The Grand Lake Theater, 3200 Grand Avenue\n\n \n\n 
 \n\nCNA has sponsored Prop. 89 as an antidote to the current corrupt 
 campaign finance system. Based on election laws already succeeding in 
 Arizona, Maine, and Connecticut, Prop. 89, the California Clean Money and 
 Fair Elections Act, sets tougher limits on contributions from corporations, 
 unions and private individuals and establishes provides public financing 
 for candidates who reject private money. It also closes some current 
 campaign finance loopholes and strives to reduce the influence of 
 professional lobbyists.  It contains tough penalties for candidates who 
 break the law, including jail time and removal from office.\n\n \n\nLearn 
 more at www.Yeson89.org\n\n 
 https://www.indybay.org/newsitems/2006/08/10/18296018.php
SUMMARY:Premiere of "Nurses Vs. Arnold" Movie//Prop. 89 Event
LOCATION:Grand Lake Thater--3200 Grand Av. in Oaklant
URL:https://www.indybay.org/newsitems/2006/08/10/18296018.php
DTSTART:20060824T220000Z
DTEND:20060824T233000Z
END:VEVENT
END:VCALENDAR
