BEGIN:VCALENDAR
VERSION:2.0
X-WR-CALNAME:www.indybay.org
PRODID:-//indybay/ical// v1.0//EN
BEGIN:VEVENT
UID:Indybay-18295012
SEQUENCE:18298527
CREATED:20060806T015500Z
DESCRIPTION:Join EBAA for outreach outside of Andronico's Market and Costco to educate 
 consumers about the inhumane treatment of poultry. \n\n 
 https://www.indybay.org/newsitems/2006/08/05/18295012.php
SUMMARY:Two-Part Advocacy Event at Andronico's and Costco
LOCATION:Locations/Times: \n\n* Andronico's, 1200 Irving Street, San Francisco 
 (11:30 AM - 12:30 PM) \n\n* Costco, 450 10th Street, San Francisco (1:00 PM 
 – 2:00 PM) 
URL:https://www.indybay.org/newsitems/2006/08/05/18295012.php
DTSTART:20060826T183000Z
DTEND:20060826T210000Z
END:VEVENT
END:VCALENDAR
