BEGIN:VCALENDAR
VERSION:2.0
X-WR-CALNAME:www.indybay.org
PRODID:-//indybay/ical// v1.0//EN
BEGIN:VEVENT
UID:Indybay-18294464
SEQUENCE:18297903
CREATED:20060804T040800Z
DESCRIPTION:Zine Workshop @ CELLspace, 2050 Bryant St\nAugust 22, 6pm - 8pm\nFREE 
 EVENT\nFrom personal journals, to political commentary, cutting and pasting 
 ideas and actions into a manifestation of how you see the future.  All 
 participants will create pages for a large group magazine plus learn skills 
 in making your own.\n\n\nThe workshops incorporate concerns around the arts 
 and social/political opinions, global consumption, environmental issues, 
 policing of privacy, free space and human injustices culminating in a 
 public multimedia performance event August 19th.  it/EQ (NYC) works 
 promoting arts/artists in a multicultural exchange and promoting visibility 
 to minority or underrepresented people.\n\n 
 https://www.indybay.org/newsitems/2006/08/03/18294464.php
SUMMARY:Free Bookmaking/Zine Workshop
LOCATION:CELLspace, 2050 Bryant St (20th St & Bryant)
URL:https://www.indybay.org/newsitems/2006/08/03/18294464.php
DTSTART:20060823T010000Z
DTEND:20060823T030000Z
END:VEVENT
END:VCALENDAR
