BEGIN:VCALENDAR
VERSION:2.0
X-WR-CALNAME:www.indybay.org
PRODID:-//indybay/ical// v1.0//EN
BEGIN:VEVENT
UID:Indybay-18294459
SEQUENCE:18297898
CREATED:20060804T040200Z
DESCRIPTION:Costume/Mask/Puppet Making Workshop @ Million Fishes Collective, 2501 
 Bryant (corner of Bryant @ 24th St)\nAugust 6, 7 & 8, 6pm - 9pm\nFREE 
 EVENT\nTransform recycled fabrics, clothes, and paper into your own desires 
 and dreams, weaving fantasy into reality, the personal with a political 
 conscious.\n\nThe workshops incorporate concerns around the arts and 
 social/political opinions, global consumption, environmental issues, 
 policing of privacy, free space and human injustices culminating in a 
 public multimedia performance event August 19th.  it/EQ (NYC) works 
 promoting arts/artists in a multicultural exchange and promoting visibility 
 to minority or underrepresented people.\n\n 
 https://www.indybay.org/newsitems/2006/08/03/18294459.php
SUMMARY:Free Puppet/Mask/Costume Workshop
LOCATION:Million Fishes Collective @ 2501 Bryant St, (Bryant & 24th St)
URL:https://www.indybay.org/newsitems/2006/08/03/18294459.php
DTSTART:20060807T010000Z
DTEND:20060807T040000Z
END:VEVENT
END:VCALENDAR
