BEGIN:VCALENDAR
VERSION:2.0
X-WR-CALNAME:www.indybay.org
PRODID:-//indybay/ical// v1.0//EN
BEGIN:VEVENT
UID:Indybay-18292150
SEQUENCE:18295267
CREATED:20060728T065200Z
DESCRIPTION:Nato Green's Iron Comic\nFriday, August 11, 2006 at 7:30pm (doors at 
 7)\nThe Make-Out Room at 3225 22nd st., SF, CA 94110\n$8\nage 21+\nWhose 
 routine reigns supreme?\n\nThe last show sold out, so get there 
 early.\n\nIron Comic is a live gameshow where 5 comedians rush to write a 
 routine in 10 minutes from topics suggested by the audience.  At the end of 
 the night, an Iron Comic will be chosen. Inspired by Iron Chef, each comic 
 is forced to craft jokes while the clock is ticking.\n\nBattling in Joke 
 Arena:\nLouis Katz, seen on "Last Call with Carson Daly," at the Montreal 
 Comedy Festival, Laffapalooza, and of course everywhere around the 
 Bay.\nDebi Durst. of legendary comedy duo Deb & Mike, SF Comedy Day, the 
 Big Fat Year-End Kiss Off, and providing voices for "Tim Burton's Nightmare 
 Before Christmas."\nKris Tinkle, of Howard Stern's Meet the Retards Tour, 
 as seen at the Punchline, Cobb's, and soon as heard on XM Radio.\nChris 
 Garcia half the creative force behind improv and comedy show Rice & Beans, 
 and a returning Iron Comic.\nJohn Hoogasian has performed alongside Louis 
 CK, Lewis Black, Sarah Silverman, Dave Attell and Mitch Hedberg. There is 
 no father to his style.\n\nWhile the Iron Comics are busy writing we'll 
 have these fine featured comedians entertain the audience:\nNato Green, 
 creator of Iron Comic and Laugh Out the Vote.\nWill Durst, America's 
 premier political comic, and one of the Wills on 960AM the Quake's Morning 
 Show.\nGretchen Rootes, a returning Iron Comic, a great and hard-working 
 comedian, and a harder drinker.\n 
 https://www.indybay.org/newsitems/2006/07/27/18292150.php
SUMMARY:Nato Green's Iron Comic
LOCATION:Make-Out Room\n3225 22nd St. at Mission, San Francisco, CA 94110
URL:https://www.indybay.org/newsitems/2006/07/27/18292150.php
DTSTART:20060812T023000Z
DTEND:20060812T043000Z
END:VEVENT
END:VCALENDAR
