BEGIN:VCALENDAR
VERSION:2.0
X-WR-CALNAME:www.indybay.org
PRODID:-//indybay/ical// v1.0//EN
BEGIN:VEVENT
UID:Indybay-18291646
SEQUENCE:18294599
CREATED:20060726T174600Z
DESCRIPTION:Doug Dowd's popular course on economics meets twice a month through 
 September.  Dowd is a radical economist, economic historian, professor at 
 two universities in Italy, the author of more than a dozen books, and 
 lifelong political activist. Doug calls himself a loose-jointed Marxist and 
 a full-fledged Veblenian--he's The Peoples' Economist.  His latest book is 
 The Broken Promises of America.\n\nFor a complete listing of events visit 
 us online at moderntimesbookstore.com\n\nEVENT BOOKS ARE 10% OFF.\n\nMODERN 
 TIMES IS WHEELCHAIR ACCESSIBLE.\n\nALL EVENTS ARE FREE AND OPEN TO THE 
 PUBLIC UNLESS OTHERWISE INDICATED.\n 
 https://www.indybay.org/newsitems/2006/07/26/18291646.php
SUMMARY:Doug Dowd's Course on Economics
LOCATION:Modern Times Bookstore\n888 Valencia Street\nbetween 19th and 20th
URL:https://www.indybay.org/newsitems/2006/07/26/18291646.php
DTSTART:20060825T020000Z
DTEND:20060825T040000Z
END:VEVENT
END:VCALENDAR
