BEGIN:VCALENDAR
VERSION:2.0
X-WR-CALNAME:www.indybay.org
PRODID:-//indybay/ical// v1.0//EN
BEGIN:VEVENT
UID:Indybay-18289990
SEQUENCE:18292581
CREATED:20060720T201500Z
DESCRIPTION:Blockprinting Weekend Workshop\n\nThis Saturday and Sunday\nfrom 2:30 to 
 9:30pm\n\nat Werkshop Museum\n293 Squid Row Alley\n(Union and Center 
 St)\nDowntown Santa Cruz\n\nAll Materials are Provided.\nSliding Scale 
 Donation $10 -$25\n\nCall (831)454-9230\nEmail 
 playinginsand@gmail.com\n\n--\n*arise building creative momentum*\n\n 
 https://www.indybay.org/newsitems/2006/07/20/18289990.php
SUMMARY:Blockprinting Weekend Workshop
LOCATION:Werkshop Museum\n293 Squid Row Alley\n(Union and Center St)\nDowntown Santa 
 Cruz
URL:https://www.indybay.org/newsitems/2006/07/20/18289990.php
DTSTART:20060723T213000Z
DTEND:20060724T043000Z
END:VEVENT
END:VCALENDAR
