BEGIN:VCALENDAR
VERSION:2.0
X-WR-CALNAME:www.indybay.org
PRODID:-//indybay/ical// v1.0//EN
BEGIN:VEVENT
UID:Indybay-18289224
SEQUENCE:18291708
CREATED:20060718T155000Z
DESCRIPTION:San Francisco District Attorney’s Town Hall\n\nHistoric meeting of San 
 Francisco District Attorney with LGBT community members about Hate Crimes 
 and protecting our communities.\n\nKamala Harris to talk to community about 
 Hate Crimes\nIn contrast, the SF DA is organizing a cutting edge legal 
 conference (for which over 200 law enforcement folks from around the 
 country have registered) and backing it up with this town hall. It’s a 
 first-time chance for our elected “top cop” to hear directly from 
 community members about what she and her colleagues can be doing better to 
 protect our communities from hate violence.\nIt’s now up to us to show up 
 and make this event a huge success so that other law enforcement officers 
 from around the state and the country will be inspired to follow her 
 example. \n\n https://www.indybay.org/newsitems/2006/07/18/18289224.php
SUMMARY:San Francisco District Attorney’s Town Hall Meeting
LOCATION:LGBT Center 1800 Market street
URL:https://www.indybay.org/newsitems/2006/07/18/18289224.php
DTSTART:20060721T013000Z
DTEND:20060721T033000Z
END:VEVENT
END:VCALENDAR
