BEGIN:VCALENDAR
VERSION:2.0
X-WR-CALNAME:www.indybay.org
PRODID:-//indybay/ical// v1.0//EN
BEGIN:VEVENT
UID:Indybay-18288641
SEQUENCE:18291025
CREATED:20060716T222600Z
DESCRIPTION:Poetry-Labor, War and Immigration\nThree Women Poets, Leslie Simon from 
 Poetry for the People, the Women’s Studies Department of City College, 
 San Francisco, author of Collisions and Transformations. Nellie Wong from 
 Radical Women and Freedom Socialist Party, delegate to the San Francisco 
 Labor Council for UPTE CWA 9119, and author of Death of Longsteam Lady, and 
 Co-editor with Yolanda Alaniz of Voices of Color Anthology by Red Letter 
 Press. Alice E. Rogoff, author of Mural from Blue Light Press, delegate to 
 the San Francisco Labor Council for the National Writers Union, and Living 
 Wage Coalition secretary. \n\n 
 https://www.indybay.org/newsitems/2006/07/16/18288641.php
SUMMARY:SF: Poetry-Labor, War and Immigration
LOCATION:Modern Times Bookstore\n888 Valencia St. near 20th St., San Francisco
URL:https://www.indybay.org/newsitems/2006/07/16/18288641.php
DTSTART:20060720T020000Z
DTEND:20060720T040000Z
END:VEVENT
END:VCALENDAR
