BEGIN:VCALENDAR
VERSION:2.0
X-WR-CALNAME:www.indybay.org
PRODID:-//indybay/ical// v1.0//EN
BEGIN:VEVENT
UID:Indybay-18288145
SEQUENCE:18290440
CREATED:20060715T054700Z
DESCRIPTION:*****Emergency Community Forum*****\n \n"Israeli Siege of South Lebanon and 
 Gaza”\n \n \nLebanon is being attacked by land, sea and air by a brutal 
 Israeli military, killing dozens of civilians and laying waste to the 
 infrastructure of an entire country. \n \nThe Gaza strip has faced 
 Israeli's barbaric actions for years and recently has experienced not only 
 the killing of hundreds of Palestinians living in Gaza but also an economic 
 embargo by Israel meant to strangle the Palestinians will to resist Israeli 
 occupation.\n \nCome join ADC-SF for community forum on the Israeli siege 
 and bombing of Lebanon and the Gaza Strip.  The propaganda and 
 misinformation about the situation in the Middle East has never been worse 
 in this country and there has never been a better time to organize to stop 
 such brutality.  We will have some updates and analysis about the situation 
 Lebanon and Palestine, but will also have time to discuss strategies on 
 what we can do here in the Bay Area.\n \nWednesday, July 19 at 7 PM\n522 
 Valencia Street in SF\n3rd Floor\n \nSpeakers:\n \nRayan El-Amine is 
 Program Director of ADC-SF and teaches “Politics of the Middle East” at 
 City College of San Francisco.  He has recently returned from South Lebanon 
 where he is from and his family still resides. \n \nMonadel Herzallah is a 
 Palestian-American and ADC-SF collective member and Labor organizer in the 
 Bay Area. He is long-time activist on issues of social justice and is from 
 Gaza.\n \nIf you need more information, please email us at adcsf@adcsf.org 
 or call our office at 415-861-7444. You can also visit our website at 
 www.adcsf.org\n https://www.indybay.org/newsitems/2006/07/14/18288145.php
SUMMARY:SF Forum: "Israeli Siege of South Lebanon and Gaza”
LOCATION:522 Valencia Street in SF\n3rd Floor
URL:https://www.indybay.org/newsitems/2006/07/14/18288145.php
DTSTART:20060720T020000Z
DTEND:20060720T040000Z
END:VEVENT
END:VCALENDAR
