BEGIN:VCALENDAR
VERSION:2.0
X-WR-CALNAME:www.indybay.org
PRODID:-//indybay/ical// v1.0//EN
BEGIN:VEVENT
UID:Indybay-18287353
SEQUENCE:18291435
CREATED:20060712T222100Z
DESCRIPTION:Weekly A.N.S.W.E.R. Activist Meeting\n\nU.S. Imperialist Aims in 
 Cuba\nAnalysis and discussion of Bush’s “Cuba Transition” plan for 
 regime change in Cuba. Hear about upcoming actions in defense of Cuba’s 
 sovereignty and in support of the Cuban Five.\n\nLAPD Brutality Against 
 Protestors\nSee video of the July 8 LA police attack on immigrant rights 
 protestors and a report and discussion of the lawsuit that the ANSWER 
 Coalition is filing against the LAPD.\n\nGet involved in the struggle! Call 
 415-821-6545 for more info.\n\n 
 https://www.indybay.org/newsitems/2006/07/12/18287353.php
SUMMARY:SF: U.S. Imperialist Aims in Cuba
LOCATION:2489 Mission St. Room 30, at 21st St. SF\nnear 24th St. BART, #14, #49 MUNI
URL:https://www.indybay.org/newsitems/2006/07/12/18287353.php
DTSTART:20060719T020000Z
DTEND:20060719T040000Z
END:VEVENT
END:VCALENDAR
