BEGIN:VCALENDAR
VERSION:2.0
X-WR-CALNAME:www.indybay.org
PRODID:-//indybay/ical// v1.0//EN
BEGIN:VEVENT
UID:Indybay-18286930
SEQUENCE:18288988
CREATED:20060711T044100Z
DESCRIPTION:\n\n\nFrom: Brunner, Jane [mailto:JBrunner at oaklandnet.com] \nSent: 
 Wednesday, June 28, 2006 4:58 PM\nTo: Brunner, Jane\nSubject: Announcing a 
 New Farmer's Market in North Oakland!\n\nDear North Oakland Neighbors - 
 \n\nMy office and I have been working with the Temescal Telegraph Business 
 Improvement District (BID) for the past year to bring the Temescal and 
 Rockridge neighborhoods a farmer's market. I am delighted to announce the 
 opening of a new farmer's market on Sunday, July 16th.\n\nTemescal and 
 Rockridge neighbors have been asking for a local place to shop for fresh 
 fruits and vegetables for a long time. The new farmer's market answers 
 those requests.\n\nIn addition to fresh produce, the market will sell 
 flowers, baked goods and fresh fish. We will also be entertained by local 
 musicians performing every week.\n\nThe taste of fresh picked vegetables 
 and fruit can't be beat. Also, for urban dweller like us, it's always fun 
 to get to know our local California farmers.\n\nPlease join me and the 
 Temescal Telegraph BID for the grand opening (precise time to be announced 
 in a subsequent email).\n\nFarmer's Market Grand Opening \n\nDate: Sunday, 
 July 16, 2006\nLocation: Parking lot of the Claremont DMV at 5300 Claremont 
 Avenue\nTime: 9:00 a.m. to 1:00 p.m. (Time of the Opening Ceremonies to be 
 announced)\n\nThe farmer's market will be open year round every Sunday from 
 9:00 a.m. to 1:00 p.m.\n\nI hope to see you at the farmer's market!\n\nJane 
 Brunner\nCouncilmember, District 1\n 
 https://www.indybay.org/newsitems/2006/07/10/18286930.php
SUMMARY:Temescal and Rockridge neighborhood farmer's market
LOCATION:Location: Parking lot of the Claremont DMV at 5300 Claremont Avenue
URL:https://www.indybay.org/newsitems/2006/07/10/18286930.php
DTSTART:20060716T160000Z
DTEND:20060716T200000Z
END:VEVENT
END:VCALENDAR
