BEGIN:VCALENDAR
VERSION:2.0
X-WR-CALNAME:www.indybay.org
PRODID:-//indybay/ical// v1.0//EN
BEGIN:VEVENT
UID:Indybay-18286924
SEQUENCE:18288990
CREATED:20060711T035600Z
DESCRIPTION:Since October 2001, every Wednesday, except when it is raining; I have set 
 up tables, banners, chairs, food, educational material, and created a space 
 for public dialogue on key issues. We ask the public three questions and 
 write down their responses-  \n\n What do you think/feel about the events 
 of September 11th and the U.S. government's response?  \n\n How could we 
 defuse terrorism?"  \n\n How could we create a safer/better world for our 
 children and all children?  \n\n  \n Beginning January 2006- we will have 
 Listening for the first hour and "Speaking" for the second hour. All 
 welcome. For more information call Carol Brouillet 650-857-0927. \n\n       
                    \n                         \n\n                        
 \n                         \n 
 https://www.indybay.org/newsitems/2006/07/10/18286924.php
SUMMARY:Palo Alto: Listening for a Change
LOCATION:Lytton Plaza\nUniversity x Emerson\nDowntown Palo Alto
URL:https://www.indybay.org/newsitems/2006/07/10/18286924.php
DTSTART:20060712T180000Z
DTEND:20060712T200000Z
END:VEVENT
END:VCALENDAR
