BEGIN:VCALENDAR
VERSION:2.0
X-WR-CALNAME:www.indybay.org
PRODID:-//indybay/ical// v1.0//EN
BEGIN:VEVENT
UID:Indybay-18283914
SEQUENCE:18285403
CREATED:20060629T233400Z
DESCRIPTION:Join us to help celebrate 75 years of serving Sonoma County. With the help 
 of fundraisers like this and the donations from animal activists all over 
 California, we've been able to maintain a shelter dedicated to finding 
 animals homes. Hosted by our animal friends, the evening will be catered by 
 chefs at St. Francis and will feature over 25 local wineries, pet fasion 
 show, silect auction, fat cat casino, live music & dancing. Tickets are $95 
 pp and can be purchased by calling Beverly at (707) 542-0882 ext. 203 or 
 emailing Angie at abonnert@sonomahumane.org\n 
 https://www.indybay.org/newsitems/2006/06/29/18283914.php
SUMMARY:Santa Rosa: Humane Society's Anniversary Gala - For the Animals!
LOCATION:St. Francis Winery and Vineyards\n100 Pythian Road\nSanta Rosa, CA 95409
URL:https://www.indybay.org/newsitems/2006/06/29/18283914.php
DTSTART:20060826T020000Z
DTEND:20060826T053000Z
END:VEVENT
END:VCALENDAR
