BEGIN:VCALENDAR
VERSION:2.0
X-WR-CALNAME:www.indybay.org
PRODID:-//indybay/ical// v1.0//EN
BEGIN:VEVENT
UID:Indybay-18283385
SEQUENCE:18284761
CREATED:20060628T160300Z
DESCRIPTION:We'll be finalizing (hopefully) plans for an upcoming  Davis 
 potluck/training.\n 
 https://www.indybay.org/newsitems/2006/06/28/18283385.php
SUMMARY:Sacramento IndyMedia meeting
LOCATION:Access Sacramento \ncomputer lab\n4623 T St, Sacramento, CA
URL:https://www.indybay.org/newsitems/2006/06/28/18283385.php
DTSTART:20060703T020000Z
DTEND:20060703T030000Z
END:VEVENT
END:VCALENDAR
