BEGIN:VCALENDAR
VERSION:2.0
X-WR-CALNAME:www.indybay.org
PRODID:-//indybay/ical// v1.0//EN
BEGIN:VEVENT
UID:Indybay-18283298
SEQUENCE:18284980
CREATED:20060628T055700Z
DESCRIPTION:Wednesday, July 19 at 7:00 pm \n\nFOUR SHORT FILMS\nPresented by Steve 
 Zeltzer\nLaborFest \n\nTHE MISSION \n\nThis film is about a delegation of 
 European trade unionists who travel to the region to investigate the 
 conditions of Palestinian workers. http://www.odaction.org \n\nMEETING FACE 
 TO FACE: THE IRAP-U.S. SOLIDARITY TOUR \n\nThis film directed by Jonathan 
 Levin tells the story of the Iraqi trade union visit to the United States 
 and the response it received. The film breaks through media walls that keep 
 Iraqi and labor voices out of the debate about the war in the U.S. It 
 brings the voices of Iraqi working people directly into the conversation as 
 we consider the war and the continuing occupation and what the next steps 
 should be. In this film we also see American working people bringing new 
 energy and commitment to the movement for peace, social justice, and a 
 humane foreign policy. \nhttp://www.jonathanlevin.com \n\nTHE MALL \n\nThis 
 film gives an inside look at the living conditions of Palestinian workers 
 inside Israel. Their home is a mall. \nhttp://www.odaction.org \n\nGO 
 FORWARD: THE IRAQI FREEDOM CONGRESS \n\nThis film shows how the Iraqi 
 working class is seeking to organize and also seeking to fight U.S. 
 occupation of Iraq. http://homepage2.nifty.com/cine-mabui \n\nBefore and 
 after the film, everyone’s invited to indulge in our Humanist Coffee 
 House \n\n$5 donations are accepted \n 
 https://www.indybay.org/newsitems/2006/06/27/18283298.php
SUMMARY:Oakland: Meeting Face to Face: the Iraq-U.S. Solidarity Tour
LOCATION:Humanist Hall \n390 27th Street \nmidtown Oakland, between Telegraph and 
 Broadway, below Pill Hill \nhttp://www.HumanistHall.net 
URL:https://www.indybay.org/newsitems/2006/06/27/18283298.php
DTSTART:20060720T020000Z
DTEND:20060720T043000Z
END:VEVENT
END:VCALENDAR
