BEGIN:VCALENDAR
VERSION:2.0
X-WR-CALNAME:www.indybay.org
PRODID:-//indybay/ical// v1.0//EN
BEGIN:VEVENT
UID:Indybay-18283292
SEQUENCE:18284656
CREATED:20060628T050300Z
DESCRIPTION:Wednesday, June 28th, Oakland: East Bay ASA Meeting*\n\nLast month's East 
 Bay ASA meeting was a huge success, drawing 25 \nadvocates from the East 
 Bay and beyond. We began making strategic plans \nfor the rest of the year 
 to ensure safe access in Alameda and Contra \nCosta Counties.\n\nPlease 
 join us and make your voice heard! Refreshments will be served.\n\n*    
 Wednesday, June 28th @ 7 pm*\n\n    Oakland Cannabis Buyers' Cooperative\n  
   1734 Telegraph (back entrance), Downtown Oakland\n    Just a couple 
 blocks from the 19th Street BART station!\n\nFor more information or to get 
 involved, contact Rebecca: \nRebecca at SafeAccessNow.org or 510-251-1856 x 
 308\n\nPlease spread the word and pass this on to your East Bay 
 neighbors!\n\n-- \nRebecca Saltzman\nField Coordinator\nAmericans for Safe 
 Access\np (510) 251-1856 x 308\nf (510) 251-2036\nwww.safeaccessnow.org\n 
 https://www.indybay.org/newsitems/2006/06/27/18283292.php
SUMMARY:East Bay ASA Meeting
LOCATION:\n    Oakland Cannabis Buyers' Cooperative\n    1734 Telegraph (back 
 entrance), Downtown Oakland\n    Just a couple blocks from the 19th Street 
 BART station!
URL:https://www.indybay.org/newsitems/2006/06/27/18283292.php
DTSTART:20060629T020000Z
DTEND:20060629T040000Z
END:VEVENT
END:VCALENDAR
